BEGIN:VCALENDAR
VERSION:2.0
PRODID:-//Saskatchewan Federation of Police Officers - ECPv6.15.20//NONSGML v1.0//EN
CALSCALE:GREGORIAN
METHOD:PUBLISH
X-ORIGINAL-URL:https://saskpolice.com
X-WR-CALDESC:Events for Saskatchewan Federation of Police Officers
REFRESH-INTERVAL;VALUE=DURATION:PT1H
X-Robots-Tag:noindex
X-PUBLISHED-TTL:PT1H
BEGIN:VTIMEZONE
TZID:America/Regina
BEGIN:STANDARD
TZOFFSETFROM:-0600
TZOFFSETTO:-0600
TZNAME:CST
DTSTART:20240101T000000
END:STANDARD
END:VTIMEZONE
BEGIN:VEVENT
DTSTART;TZID=America/Regina:20250325T180000
DTEND;TZID=America/Regina:20250325T193000
DTSTAMP:20260425T044503
CREATED:20250313T193706Z
LAST-MODIFIED:20250326T145846Z
UID:4731-1742925600-1742931000@saskpolice.com
SUMMARY:Live Webinar: Mind & Family Matters
DESCRIPTION:Here's How You Enter:\n\n  Log in to the SFPO member portal – it’s full of information and special offers!\n  Download and print the wellness tips Be Your Best You Wellness Contest one-sheet.\n  Complete as many tasks as possible to enhance your wellness journey.\n  Mark your sheet with a minimum of 8 completed tasks.\n  Return the sheet to sfpomail@gmail.com by February 6. Scan or send a photo from your phone. Include your full name and Association on the sheet and in the email.\n\n\nThe Saskatchewan Federation of Police Officers encourages you to prioritize your wellness this year! As you work hard to care for others\, now is the perfect time to focus on yourself. Transform your life in just 30 days with simple wellness activities that nurture your mind\, body\, and spirit. \n\nLucky SFPO members will WIN one Oura Ring 4 (starting at $349) to give you a longer and healthier life and two $100 SportChek Gift Cards. \n\nThis is a great opportunity to boost your health\, connect with fellow members\, and support each other in achieving personal wellness goals.
URL:https://saskpolice.com/event/live-webinar-mind-family-matters-03252025/
LOCATION:Zoom Virtual Event
ATTACH;FMTTYPE=image/png:https://saskpolice.com/app/uploads/2025/03/SFPO-Mind-and-Family-Matters-Zoom-Header.png
END:VEVENT
BEGIN:VEVENT
DTSTART;VALUE=DATE:20250507
DTEND;VALUE=DATE:20250509
DTSTAMP:20260425T044503
CREATED:20250506T120331Z
LAST-MODIFIED:20250506T120859Z
UID:4859-1746576000-1746748799@saskpolice.com
SUMMARY:CIPSRT Conference 2025 - Thriving in Public Safety: Research to Action
DESCRIPTION:Here's How You Enter:\n\n  Log in to the SFPO member portal – it’s full of information and special offers!\n  Download and print the wellness tips Be Your Best You Wellness Contest one-sheet.\n  Complete as many tasks as possible to enhance your wellness journey.\n  Mark your sheet with a minimum of 8 completed tasks.\n  Return the sheet to sfpomail@gmail.com by February 6. Scan or send a photo from your phone. Include your full name and Association on the sheet and in the email.\n\n\nThe Saskatchewan Federation of Police Officers encourages you to prioritize your wellness this year! As you work hard to care for others\, now is the perfect time to focus on yourself. Transform your life in just 30 days with simple wellness activities that nurture your mind\, body\, and spirit. \n\nLucky SFPO members will WIN one Oura Ring 4 (starting at $349) to give you a longer and healthier life and two $100 SportChek Gift Cards. \n\nThis is a great opportunity to boost your health\, connect with fellow members\, and support each other in achieving personal wellness goals.
URL:https://saskpolice.com/event/cipsrt-conference-2025/
LOCATION:Delta Hotels by Marriott Regina\, 1919 Saskatchewan Drive\, Regina\, SK\, S4P 4H2\, Canada
ATTACH;FMTTYPE=image/png:https://saskpolice.com/app/uploads/2025/05/CIPSRT-Conference-2025.png
END:VEVENT
BEGIN:VEVENT
DTSTART;VALUE=DATE:20250809
DTEND;VALUE=DATE:20250810
DTSTAMP:20260425T044503
CREATED:20250418T141453Z
LAST-MODIFIED:20250507T163323Z
UID:4841-1754697600-1754783999@saskpolice.com
SUMMARY:​Jay Pierson Memorial Golf Tournament 2025
DESCRIPTION:Here's How You Enter:\n\n  Log in to the SFPO member portal – it’s full of information and special offers!\n  Download and print the wellness tips Be Your Best You Wellness Contest one-sheet.\n  Complete as many tasks as possible to enhance your wellness journey.\n  Mark your sheet with a minimum of 8 completed tasks.\n  Return the sheet to sfpomail@gmail.com by February 6. Scan or send a photo from your phone. Include your full name and Association on the sheet and in the email.\n\n\nThe Saskatchewan Federation of Police Officers encourages you to prioritize your wellness this year! As you work hard to care for others\, now is the perfect time to focus on yourself. Transform your life in just 30 days with simple wellness activities that nurture your mind\, body\, and spirit. \n\nLucky SFPO members will WIN one Oura Ring 4 (starting at $349) to give you a longer and healthier life and two $100 SportChek Gift Cards. \n\nThis is a great opportunity to boost your health\, connect with fellow members\, and support each other in achieving personal wellness goals.
URL:https://saskpolice.com/event/jay-pierson-memorial-golf-tournament-2025-08092025/
LOCATION:TS&M Woodlawn Golf Club\, 3km S on Hwy 47\, Estevan\, SK\, S4A 2A3\, Canada
ATTACH;FMTTYPE=image/png:https://saskpolice.com/app/uploads/2025/04/Jay-Pierson-Memorial-Golf-Tournament.png
ORGANIZER;CN="Estevan Police Association":MAILTO:jpgolf@estevanpolice.ca
END:VEVENT
BEGIN:VEVENT
DTSTART;VALUE=DATE:20250829
DTEND;VALUE=DATE:20250830
DTSTAMP:20260425T044503
CREATED:20250506T195924Z
LAST-MODIFIED:20250507T163535Z
UID:4875-1756425600-1756511999@saskpolice.com
SUMMARY:Weyburn Police Association 8th Annual Golf Tournament
DESCRIPTION:Here's How You Enter:\n\n  Log in to the SFPO member portal – it’s full of information and special offers!\n  Download and print the wellness tips Be Your Best You Wellness Contest one-sheet.\n  Complete as many tasks as possible to enhance your wellness journey.\n  Mark your sheet with a minimum of 8 completed tasks.\n  Return the sheet to sfpomail@gmail.com by February 6. Scan or send a photo from your phone. Include your full name and Association on the sheet and in the email.\n\n\nThe Saskatchewan Federation of Police Officers encourages you to prioritize your wellness this year! As you work hard to care for others\, now is the perfect time to focus on yourself. Transform your life in just 30 days with simple wellness activities that nurture your mind\, body\, and spirit. \n\nLucky SFPO members will WIN one Oura Ring 4 (starting at $349) to give you a longer and healthier life and two $100 SportChek Gift Cards. \n\nThis is a great opportunity to boost your health\, connect with fellow members\, and support each other in achieving personal wellness goals.
URL:https://saskpolice.com/event/weyburn-police-association-8th-annual-golf-tournament/
LOCATION:Weyburn Golf Club\, 1 Golf Course Road\, Weyburn\, SK\, S4H 2K3\, Canada
ATTACH;FMTTYPE=image/png:https://saskpolice.com/app/uploads/2025/05/Weyburn-Police-Association-8th-Annual-Golf-Tournament.png
END:VEVENT
BEGIN:VEVENT
DTSTART;TZID=America/Regina:20250928T103000
DTEND;TZID=America/Regina:20250928T113000
DTSTAMP:20260425T044503
CREATED:20250723T193352Z
LAST-MODIFIED:20250926T125947Z
UID:4984-1759055400-1759059000@saskpolice.com
SUMMARY:2025 Saskatchewan Police & Peace Officers Memorial
DESCRIPTION:Here's How You Enter:\n\n  Log in to the SFPO member portal – it’s full of information and special offers!\n  Download and print the wellness tips Be Your Best You Wellness Contest one-sheet.\n  Complete as many tasks as possible to enhance your wellness journey.\n  Mark your sheet with a minimum of 8 completed tasks.\n  Return the sheet to sfpomail@gmail.com by February 6. Scan or send a photo from your phone. Include your full name and Association on the sheet and in the email.\n\n\nThe Saskatchewan Federation of Police Officers encourages you to prioritize your wellness this year! As you work hard to care for others\, now is the perfect time to focus on yourself. Transform your life in just 30 days with simple wellness activities that nurture your mind\, body\, and spirit. \n\nLucky SFPO members will WIN one Oura Ring 4 (starting at $349) to give you a longer and healthier life and two $100 SportChek Gift Cards. \n\nThis is a great opportunity to boost your health\, connect with fellow members\, and support each other in achieving personal wellness goals.
URL:https://saskpolice.com/event/2025-saskatchewan-police-peace-officers-memorial/
LOCATION:Saskatchewan Legislative Building\, 2405 Legislative Dr\, Regina\, SK\, S4S 0B3\, Canada
ATTACH;FMTTYPE=image/png:https://saskpolice.com/app/uploads/2024/08/2024-Saskatchewan-Police-Peace-Officers-Memorial.png
END:VEVENT
BEGIN:VEVENT
DTSTART;VALUE=DATE:20260106
DTEND;VALUE=DATE:20260207
DTSTAMP:20260425T044503
CREATED:20260119T165145Z
LAST-MODIFIED:20260119T165328Z
UID:5282-1767657600-1770422399@saskpolice.com
SUMMARY:Be Your Best You Wellness 2026 Contest
DESCRIPTION:Here's How You Enter:\n\n  Log in to the SFPO member portal – it’s full of information and special offers!\n  Download and print the wellness tips Be Your Best You Wellness Contest one-sheet.\n  Complete as many tasks as possible to enhance your wellness journey.\n  Mark your sheet with a minimum of 8 completed tasks.\n  Return the sheet to sfpomail@gmail.com by February 6. Scan or send a photo from your phone. Include your full name and Association on the sheet and in the email.\n\n\nThe Saskatchewan Federation of Police Officers encourages you to prioritize your wellness this year! As you work hard to care for others\, now is the perfect time to focus on yourself. Transform your life in just 30 days with simple wellness activities that nurture your mind\, body\, and spirit. \n\nLucky SFPO members will WIN one Oura Ring 4 (starting at $349) to give you a longer and healthier life and two $100 SportChek Gift Cards. \n\nThis is a great opportunity to boost your health\, connect with fellow members\, and support each other in achieving personal wellness goals.
URL:https://saskpolice.com/event/be-your-best-you-wellness-2026-contest/
ATTACH;FMTTYPE=image/png:https://saskpolice.com/app/uploads/2026/01/Be-Your-Best-You-Wellness-2026-Contest.png
END:VEVENT
BEGIN:VEVENT
DTSTART;TZID=America/Regina:20260212T180000
DTEND;TZID=America/Regina:20260212T193000
DTSTAMP:20260425T044503
CREATED:20260119T161059Z
LAST-MODIFIED:20260121T143807Z
UID:5271-1770919200-1770924600@saskpolice.com
SUMMARY:LIVE WEBINAR: Family Violence Awareness – The Latest Information
DESCRIPTION:Here's How You Enter:\n\n  Log in to the SFPO member portal – it’s full of information and special offers!\n  Download and print the wellness tips Be Your Best You Wellness Contest one-sheet.\n  Complete as many tasks as possible to enhance your wellness journey.\n  Mark your sheet with a minimum of 8 completed tasks.\n  Return the sheet to sfpomail@gmail.com by February 6. Scan or send a photo from your phone. Include your full name and Association on the sheet and in the email.\n\n\nThe Saskatchewan Federation of Police Officers encourages you to prioritize your wellness this year! As you work hard to care for others\, now is the perfect time to focus on yourself. Transform your life in just 30 days with simple wellness activities that nurture your mind\, body\, and spirit. \n\nLucky SFPO members will WIN one Oura Ring 4 (starting at $349) to give you a longer and healthier life and two $100 SportChek Gift Cards. \n\nThis is a great opportunity to boost your health\, connect with fellow members\, and support each other in achieving personal wellness goals.
URL:https://saskpolice.com/event/live-webinar-family-violence-awareness-the-latest-information/
ATTACH;FMTTYPE=image/png:https://saskpolice.com/app/uploads/2026/01/SFPO-Family-Violence-Awareness-Webinar-Email-Header.png
END:VEVENT
END:VCALENDAR