BEGIN:VCALENDAR
VERSION:2.0
PRODID:-//Saskatchewan Federation of Police Officers - ECPv6.15.20//NONSGML v1.0//EN
CALSCALE:GREGORIAN
METHOD:PUBLISH
X-WR-CALNAME:Saskatchewan Federation of Police Officers
X-ORIGINAL-URL:https://saskpolice.com
X-WR-CALDESC:Events for Saskatchewan Federation of Police Officers
REFRESH-INTERVAL;VALUE=DURATION:PT1H
X-Robots-Tag:noindex
X-PUBLISHED-TTL:PT1H
BEGIN:VTIMEZONE
TZID:America/Regina
BEGIN:STANDARD
TZOFFSETFROM:-0600
TZOFFSETTO:-0600
TZNAME:CST
DTSTART:20230101T000000
END:STANDARD
END:VTIMEZONE
BEGIN:VEVENT
DTSTART;VALUE=DATE:20241005
DTEND;VALUE=DATE:20241007
DTSTAMP:20260425T072023
CREATED:20240927T171336Z
LAST-MODIFIED:20241002T162926Z
UID:4529-1728086400-1728259199@saskpolice.com
SUMMARY:Third Annual YXE First Responders Fitness Festival
DESCRIPTION:Here's How You Enter:\n\n  Log in to the SFPO member portal – it’s full of information and special offers!\n  Download and print the wellness tips Be Your Best You Wellness Contest one-sheet.\n  Complete as many tasks as possible to enhance your wellness journey.\n  Mark your sheet with a minimum of 8 completed tasks.\n  Return the sheet to sfpomail@gmail.com by February 6. Scan or send a photo from your phone. Include your full name and Association on the sheet and in the email.\n\n\nThe Saskatchewan Federation of Police Officers encourages you to prioritize your wellness this year! As you work hard to care for others\, now is the perfect time to focus on yourself. Transform your life in just 30 days with simple wellness activities that nurture your mind\, body\, and spirit. \n\nLucky SFPO members will WIN one Oura Ring 4 (starting at $349) to give you a longer and healthier life and two $100 SportChek Gift Cards. \n\nThis is a great opportunity to boost your health\, connect with fellow members\, and support each other in achieving personal wellness goals.
URL:https://saskpolice.com/event/third-annual-yxe-first-responders-fitness-festival-2024/
LOCATION:Gordie Howe Sports Complex\, 1525 Avenue P S\, Saskatoon\, SK\, S7M 1L9\, Canada
ATTACH;FMTTYPE=image/png:https://saskpolice.com/app/uploads/2024/09/YXE-First-Responders-Fitness-Festival.png
END:VEVENT
BEGIN:VEVENT
DTSTART;TZID=America/Regina:20240929T103000
DTEND;TZID=America/Regina:20240929T113000
DTSTAMP:20260425T072023
CREATED:20240814T174130Z
LAST-MODIFIED:20240925T005042Z
UID:4208-1727605800-1727609400@saskpolice.com
SUMMARY:2024 Saskatchewan Police & Peace Officers Memorial
DESCRIPTION:Here's How You Enter:\n\n  Log in to the SFPO member portal – it’s full of information and special offers!\n  Download and print the wellness tips Be Your Best You Wellness Contest one-sheet.\n  Complete as many tasks as possible to enhance your wellness journey.\n  Mark your sheet with a minimum of 8 completed tasks.\n  Return the sheet to sfpomail@gmail.com by February 6. Scan or send a photo from your phone. Include your full name and Association on the sheet and in the email.\n\n\nThe Saskatchewan Federation of Police Officers encourages you to prioritize your wellness this year! As you work hard to care for others\, now is the perfect time to focus on yourself. Transform your life in just 30 days with simple wellness activities that nurture your mind\, body\, and spirit. \n\nLucky SFPO members will WIN one Oura Ring 4 (starting at $349) to give you a longer and healthier life and two $100 SportChek Gift Cards. \n\nThis is a great opportunity to boost your health\, connect with fellow members\, and support each other in achieving personal wellness goals.
URL:https://saskpolice.com/event/2024-saskatchewan-police-peace-officers-memorial/
LOCATION:Saskatchewan Legislative Building\, 2405 Legislative Dr\, Regina\, SK\, S4S 0B3\, Canada
ATTACH;FMTTYPE=image/png:https://saskpolice.com/app/uploads/2024/08/2024-Saskatchewan-Police-Peace-Officers-Memorial.png
END:VEVENT
BEGIN:VEVENT
DTSTART;VALUE=DATE:20240925
DTEND;VALUE=DATE:20240927
DTSTAMP:20260425T072023
CREATED:20241008T133455Z
LAST-MODIFIED:20241008T133455Z
UID:4575-1727222400-1727395199@saskpolice.com
SUMMARY:SFPO Wellness Conference 2024
DESCRIPTION:Here's How You Enter:\n\n  Log in to the SFPO member portal – it’s full of information and special offers!\n  Download and print the wellness tips Be Your Best You Wellness Contest one-sheet.\n  Complete as many tasks as possible to enhance your wellness journey.\n  Mark your sheet with a minimum of 8 completed tasks.\n  Return the sheet to sfpomail@gmail.com by February 6. Scan or send a photo from your phone. Include your full name and Association on the sheet and in the email.\n\n\nThe Saskatchewan Federation of Police Officers encourages you to prioritize your wellness this year! As you work hard to care for others\, now is the perfect time to focus on yourself. Transform your life in just 30 days with simple wellness activities that nurture your mind\, body\, and spirit. \n\nLucky SFPO members will WIN one Oura Ring 4 (starting at $349) to give you a longer and healthier life and two $100 SportChek Gift Cards. \n\nThis is a great opportunity to boost your health\, connect with fellow members\, and support each other in achieving personal wellness goals.
URL:https://saskpolice.com/event/sfpo-wellness-conference-2024/
LOCATION:Elk Ridge Resort\, 827 Lakeview Dr\, Waskesiu Lake\, SK\, S0J 2Y0\, Canada
ATTACH;FMTTYPE=image/png:https://saskpolice.com/app/uploads/2024/10/SFPO-Wellness-Conference-2024.png
END:VEVENT
END:VCALENDAR